BEGIN:VCALENDAR
VERSION:2.0
PRODID:-//ChamberMaster//Event Calendar 2.0//EN
METHOD:PUBLISH
X-PUBLISHED-TTL:P3D
REFRESH-INTERVAL:P3D
CALSCALE:GREGORIAN
BEGIN:VEVENT
DTSTART:20241129T150000Z
DTEND:20241129T230000Z
X-MICROSOFT-CDO-ALLDAYEVENT:FALSE
SUMMARY:Black Fri-yah! at The Elk's Eye Art Market
DESCRIPTION:After a long day of bargain shopping\, stop into The Elk's Eye Art Market to snag some gifts for the hard-to-shop-for people on your list\, and reward yourself with some sweet treats as you peruse the works of 30+ local artists who offer unique finds. You might be surprised how many items you can check off your list. With many different mediums available\, we have something for practically everyone.
X-ALT-DESC;FMTTYPE=text/html:After a long day of bargain shopping\, stop into The Elk&rsquo\;s Eye Art Market to snag some gifts for the hard-to-shop-for people on your list\, and reward yourself with some sweet treats as you peruse the works of 30+ local artists who offer unique finds. You might be surprised how many items you can check off your list. With many different mediums available\, we have something for practically everyone.&nbsp\;
LOCATION:22 South 4th Street Zanesville\, OH 43701
UID:e.399.8710
SEQUENCE:3
DTSTAMP:20260422T124139Z
URL:http://business.zmchamber.com/events/details/black-fri-yah-at-the-elk-s-eye-art-market-8710
END:VEVENT

END:VCALENDAR
