BEGIN:VCALENDAR
VERSION:2.0
PRODID:-//ChamberMaster//Event Calendar 2.0//EN
METHOD:PUBLISH
X-PUBLISHED-TTL:P3D
REFRESH-INTERVAL:P3D
CALSCALE:GREGORIAN
BEGIN:VEVENT
DTSTART:20241214T230000Z
DTEND:20241215T020000Z
X-MICROSOFT-CDO-ALLDAYEVENT:FALSE
SUMMARY:Not So Silent Night- Late Shopping Hours at The Elk's Eye Art Market
DESCRIPTION:The Elk's Eye Art Market will be staying open until 9 to allow you time to finish up your Christmas shopping\, or maybe just to get away from the holidaze. The merriment will include some sweets to satisfy the holiday cravings and some of our 30+ artists will be available to visit with\, so come mingle\, and reset your jingle with us.
X-ALT-DESC;FMTTYPE=text/html:The Elk&rsquo\;s Eye Art Market will be staying open until 9 to allow you time to finish up your Christmas shopping\, or maybe just to get away from the holidaze. The merriment will include some sweets to satisfy the holiday cravings and some of our 30+ artists will be available to visit with\, so come mingle\, and reset your jingle with us.
LOCATION:22 South 4th St Zanesville\, OH 43701
UID:e.399.8714
SEQUENCE:3
DTSTAMP:20260424T084853Z
URL:http://business.zmchamber.com/events/details/not-so-silent-night-late-shopping-hours-at-the-elk-s-eye-art-market-8714
END:VEVENT

END:VCALENDAR
