BEGIN:VCALENDAR
VERSION:2.0
PRODID:-//ChamberMaster//Event Calendar 2.0//EN
METHOD:PUBLISH
X-PUBLISHED-TTL:P3D
REFRESH-INTERVAL:P3D
CALSCALE:GREGORIAN
BEGIN:VEVENT
DTSTART:20241101T210000Z
DTEND:20241102T000000Z
X-MICROSOFT-CDO-ALLDAYEVENT:FALSE
SUMMARY:November First Friday Art Walk- The Elk's Eye Art Market featuring Brandon Elijah Scott
DESCRIPTION:During the November First Friday Art Walk\, The Elk's Eye Art Market is pleased to host Photographer Brandon Elijah Scott. Brandon will be available to share stories of his travels\, insights into his work\, and some of what goes into creating his work. While you are at the market\, there are 30 other artists to shop. It will be a great evening for all!
X-ALT-DESC;FMTTYPE=text/html:During the November First Friday Art Walk\, The Elk&#39\;s Eye Art Market is pleased to host Photographer Brandon Elijah Scott. Brandon will be available to share stories of his travels\, insights into his work\, and some of what goes into creating his work. While you are at the market\, there are 30 other artists to shop. It will be a great evening for all!
LOCATION:22 South Fourth Street Zanesville\, OH 43701
UID:e.399.8709
SEQUENCE:3
DTSTAMP:20260422T123913Z
URL:http://business.zmchamber.com/events/details/november-first-friday-art-walk-the-elk-s-eye-art-market-featuring-brandon-elijah-scott-8709
END:VEVENT

END:VCALENDAR
