BEGIN:VCALENDAR
VERSION:2.0
PRODID:-//ChamberMaster//Event Calendar 2.0//EN
METHOD:PUBLISH
X-PUBLISHED-TTL:P3D
REFRESH-INTERVAL:P3D
CALSCALE:GREGORIAN
BEGIN:VEVENT
DTSTART:20250711T210000Z
DTEND:20250712T000000Z
X-MICROSOFT-CDO-ALLDAYEVENT:FALSE
SUMMARY:Paint the Town- July Second Friday Art Walk at the Elk’s Eye Art Market
DESCRIPTION:The Elk's Eye Art Market is hosting late hours on the 2nd Friday in July- open 10 am to 8 pm\, and we invite you to Paint the Town! There are so many talented local artists\, and we are fortunate enough to have more than 30 at our retail location. Come out and see what this town can do!  Spend the evening in Downtown\, visiting shops\, galleries and eateries. While you are here\, pick up some Art made by a local artist in wood\, metal\, glass\, fiber\, pottery and more!
X-ALT-DESC;FMTTYPE=text/html:The Elk&rsquo\;s Eye Art Market is hosting late hours on the 2<sup>nd</sup> Friday in July- open 10 am to 8 pm\, and we invite you to Paint the Town! There are so many talented local artists\, and we are fortunate enough to have more than 30 at our retail location. Come out and see what this town can do!&nbsp\; Spend the evening in Downtown\, visiting shops\, galleries and eateries. While you are here\, pick up some Art made by a local artist in wood\, metal\, glass\, fiber\, pottery and more!
LOCATION:22 South 4th St Zanesville\, OH 43701
UID:e.399.8736
SEQUENCE:3
DTSTAMP:20260421T225055Z
URL:http://business.zmchamber.com/events/details/paint-the-town-july-second-friday-art-walk-at-the-elk-s-eye-art-market-8736
END:VEVENT

END:VCALENDAR
