BEGIN:VCALENDAR
VERSION:2.0
PRODID:-//ChamberMaster//Event Calendar 2.0//EN
METHOD:PUBLISH
X-PUBLISHED-TTL:P3D
REFRESH-INTERVAL:P3D
CALSCALE:GREGORIAN
BEGIN:VEVENT
DTSTART:20241203T230000Z
DTEND:20241204T010000Z
X-MICROSOFT-CDO-ALLDAYEVENT:FALSE
SUMMARY:Regenerative Agriculture with Mark Cohen
DESCRIPTION:Have you heard the term regenerative agriculture\, but are still wondering what it really is and how to practice it? \n\nRegenerative agriculture expert Mark Cohen will share his thoughts on the topic and answer your questions. Mark is constantly learning\, teaching\, and consulting his travel. Join us for this insightful event! \n\nFor questions and to pre-register\, contact: \n\nDenise Natoli Brooks\n\ndbrooks@centralstate.edu\, 937-831-5995
X-ALT-DESC;FMTTYPE=text/html:<p>Have you heard the term regenerative agriculture\, but are still wondering what it really is and how to practice it?&nbsp\;</p>\n\n<p>Regenerative agriculture expert Mark Cohen will share his thoughts on the topic and answer your questions. Mark is constantly learning\, teaching\, and consulting his travel. Join us for this insightful event!&nbsp\;</p>\n\n<p>For questions and to pre-register\, contact:&nbsp\;</p>\n\n<p>Denise Natoli Brooks</p>\n\n<p><a href="mailto:dbrooks@centralstate.edu" style="box-sizing: inherit\; text-decoration-line: none\; color: rgb(0\, 105\, 78)\;">dbrooks@centralstate.edu</a>\, 937-831-5995</p>\n
LOCATION:Ohio University Zanesville 1425 Newark Road Zanesville\, Ohio 43701 Elson Hall W110
UID:e.399.8723
SEQUENCE:3
DTSTAMP:20260422T110133Z
URL:http://business.zmchamber.com/events/details/regenerative-agriculture-with-mark-cohen-8723
END:VEVENT

END:VCALENDAR
