BEGIN:VCALENDAR
VERSION:2.0
PRODID:-//ChamberMaster//Event Calendar 2.0//EN
METHOD:PUBLISH
X-PUBLISHED-TTL:P3D
REFRESH-INTERVAL:P3D
CALSCALE:GREGORIAN
BEGIN:VEVENT
DTSTART:20241206T100000Z
DTEND:20241207T010000Z
X-MICROSOFT-CDO-ALLDAYEVENT:FALSE
SUMMARY:Rockin' Around the Christmas Tree- First Friday Art Walk at The Elk's Eye Art Market
DESCRIPTION:Check out the festive fanfare at The Elk's Eye Art Market while shopping locally made art from 30+ artists from the area. As you look for unique gifts for yourself or others\, you can sample sweet treats and rock along with Julie Keirle playing some Christmas tunes on Ukelele. Nothing gets you in the mood for the Holiday festivities like some great traditional and contemporary Christmas music.
X-ALT-DESC;FMTTYPE=text/html:Check out the festive fanfare at The Elk&rsquo\;s Eye Art Market while shopping locally made art from 30+ artists from the area. As you look for unique gifts for yourself or others\, you can sample sweet treats and rock along with Julie Keirle playing some Christmas tunes on Ukelele. Nothing gets you in the mood for the Holiday festivities like some great traditional and contemporary Christmas music.&nbsp\;
LOCATION:22 South 4th Street Zanesville\, OH 43701
UID:e.399.8712
SEQUENCE:3
DTSTAMP:20260422T111119Z
URL:http://business.zmchamber.com/events/details/rockin-around-the-christmas-tree-first-friday-art-walk-at-the-elk-s-eye-art-market-8712
END:VEVENT

END:VCALENDAR
